BEGIN:VCALENDAR
VERSION:2.0
PRODID:-//Rotary Club of Nansana - ECPv6.3.5//NONSGML v1.0//EN
CALSCALE:GREGORIAN
METHOD:PUBLISH
X-ORIGINAL-URL:https://rotarynansana.com
X-WR-CALDESC:Events for Rotary Club of Nansana
REFRESH-INTERVAL;VALUE=DURATION:PT1H
X-Robots-Tag:noindex
X-PUBLISHED-TTL:PT1H
BEGIN:VTIMEZONE
TZID:Africa/Kampala
BEGIN:STANDARD
TZOFFSETFROM:+0300
TZOFFSETTO:+0300
TZNAME:EAT
DTSTART:20210101T000000
END:STANDARD
END:VTIMEZONE
BEGIN:VEVENT
DTSTART;TZID=Africa/Kampala:20211108T100000
DTEND;TZID=Africa/Kampala:20211108T100000
DTSTAMP:20260422T094223
CREATED:20211029T074911Z
LAST-MODIFIED:20211101T094912Z
UID:10000158-1636365600-1636365600@rotarynansana.com
SUMMARY:Website Launch for Rotary Club Nansana
DESCRIPTION:
URL:https://rotarynansana.com/event/website-launch-for-rotary-club-nansana/
LOCATION:Ivory Hotel\, Nansana\, Kampala\, Uganda
ATTACH;FMTTYPE=image/png:https://rotarynansana.com/wp-content/uploads/2021/10/launch.png
ORGANIZER;CN="Rotary Club Nansana":MAILTO:info@rotarynansana.com
END:VEVENT
END:VCALENDAR