BEGIN:VCALENDAR
VERSION:2.0
PRODID:-//Rotary Club of Nansana - ECPv6.3.5//NONSGML v1.0//EN
CALSCALE:GREGORIAN
METHOD:PUBLISH
X-WR-CALNAME:Rotary Club of Nansana
X-ORIGINAL-URL:https://rotarynansana.com
X-WR-CALDESC:Events for Rotary Club of Nansana
REFRESH-INTERVAL;VALUE=DURATION:PT1H
X-Robots-Tag:noindex
X-PUBLISHED-TTL:PT1H
BEGIN:VTIMEZONE
TZID:Africa/Kampala
BEGIN:STANDARD
TZOFFSETFROM:+0300
TZOFFSETTO:+0300
TZNAME:EAT
DTSTART:20220101T000000
END:STANDARD
END:VTIMEZONE
BEGIN:VEVENT
DTSTART;VALUE=DATE:20220601
DTEND;VALUE=DATE:20220602
DTSTAMP:20260421T193102
CREATED:20211116T002204Z
LAST-MODIFIED:20211116T002204Z
UID:10000404-1654041600-1654127999@rotarynansana.com
SUMMARY:Nabitaka Barbara's Birthday
DESCRIPTION:
URL:https://rotarynansana.com/event/nabitaka-barbaras-birthday/2022-06-01/
CATEGORIES:Birthdays
ATTACH;FMTTYPE=image/png:https://rotarynansana.com/wp-content/uploads/2021/11/Nabitaka-Barbara.png
END:VEVENT
BEGIN:VEVENT
DTSTART;TZID=Africa/Kampala:20220601T190000
DTEND;TZID=Africa/Kampala:20220601T200000
DTSTAMP:20260421T193102
CREATED:20211101T094829Z
LAST-MODIFIED:20211104T010552Z
UID:10000282-1654110000-1654113600@rotarynansana.com
SUMMARY:Weekly Fellowship
DESCRIPTION:
URL:https://rotarynansana.com/event/weekly-meeting/2022-06-01/
LOCATION:Ivory Hotel\, Nansana\, Kampala\, Uganda
ATTACH;FMTTYPE=image/png:https://rotarynansana.com/wp-content/uploads/2021/10/launch.png
ORGANIZER;CN="Rotary Club Nansana":MAILTO:info@rotarynansana.com
END:VEVENT
END:VCALENDAR