BEGIN:VCALENDAR
VERSION:2.0
PRODID:-//Rotary Club of Nansana - ECPv6.3.5//NONSGML v1.0//EN
CALSCALE:GREGORIAN
METHOD:PUBLISH
X-WR-CALNAME:Rotary Club of Nansana
X-ORIGINAL-URL:https://rotarynansana.com
X-WR-CALDESC:Events for Rotary Club of Nansana
REFRESH-INTERVAL;VALUE=DURATION:PT1H
X-Robots-Tag:noindex
X-PUBLISHED-TTL:PT1H
BEGIN:VTIMEZONE
TZID:Africa/Kampala
BEGIN:STANDARD
TZOFFSETFROM:+0300
TZOFFSETTO:+0300
TZNAME:EAT
DTSTART:20210101T000000
END:STANDARD
END:VTIMEZONE
BEGIN:VEVENT
DTSTART;VALUE=DATE:20220322
DTEND;VALUE=DATE:20220323
DTSTAMP:20260421T063426
CREATED:20211115T234237Z
LAST-MODIFIED:20211115T234237Z
UID:10000321-1647907200-1647993599@rotarynansana.com
SUMMARY:Aloysius Kyeyune Ssemmanda's Birthday
DESCRIPTION:
URL:https://rotarynansana.com/event/aloysius-kyeyune-ssemmandas-birthday/2022-03-22/
CATEGORIES:Birthdays
ATTACH;FMTTYPE=image/png:https://rotarynansana.com/wp-content/uploads/2021/11/birthday.png
END:VEVENT
BEGIN:VEVENT
DTSTART;TZID=Africa/Kampala:20220316T190000
DTEND;TZID=Africa/Kampala:20220316T200000
DTSTAMP:20260421T063426
CREATED:20211101T094829Z
LAST-MODIFIED:20211104T010552Z
UID:10000271-1647457200-1647460800@rotarynansana.com
SUMMARY:Weekly Fellowship
DESCRIPTION:
URL:https://rotarynansana.com/event/weekly-meeting/2022-03-16/
LOCATION:Ivory Hotel\, Nansana\, Kampala\, Uganda
ATTACH;FMTTYPE=image/png:https://rotarynansana.com/wp-content/uploads/2021/10/launch.png
ORGANIZER;CN="Rotary Club Nansana":MAILTO:info@rotarynansana.com
END:VEVENT
BEGIN:VEVENT
DTSTART;TZID=Africa/Kampala:20220309T190000
DTEND;TZID=Africa/Kampala:20220309T200000
DTSTAMP:20260421T063426
CREATED:20211101T094829Z
LAST-MODIFIED:20211104T010552Z
UID:10000270-1646852400-1646856000@rotarynansana.com
SUMMARY:Weekly Fellowship
DESCRIPTION:
URL:https://rotarynansana.com/event/weekly-meeting/2022-03-09/
LOCATION:Ivory Hotel\, Nansana\, Kampala\, Uganda
ATTACH;FMTTYPE=image/png:https://rotarynansana.com/wp-content/uploads/2021/10/launch.png
ORGANIZER;CN="Rotary Club Nansana":MAILTO:info@rotarynansana.com
END:VEVENT
BEGIN:VEVENT
DTSTART;TZID=Africa/Kampala:20220302T190000
DTEND;TZID=Africa/Kampala:20220302T200000
DTSTAMP:20260421T063426
CREATED:20211101T094829Z
LAST-MODIFIED:20211104T010552Z
UID:10000269-1646247600-1646251200@rotarynansana.com
SUMMARY:Weekly Fellowship
DESCRIPTION:
URL:https://rotarynansana.com/event/weekly-meeting/2022-03-02/
LOCATION:Ivory Hotel\, Nansana\, Kampala\, Uganda
ATTACH;FMTTYPE=image/png:https://rotarynansana.com/wp-content/uploads/2021/10/launch.png
ORGANIZER;CN="Rotary Club Nansana":MAILTO:info@rotarynansana.com
END:VEVENT
BEGIN:VEVENT
DTSTART;VALUE=DATE:20220301
DTEND;VALUE=DATE:20220302
DTSTAMP:20260421T063426
CREATED:20211115T221821Z
LAST-MODIFIED:20211115T221821Z
UID:10000291-1646092800-1646179199@rotarynansana.com
SUMMARY:Kiiza Johnson's Birthday
DESCRIPTION:
URL:https://rotarynansana.com/event/kiiza-johnsons-birthday/2022-03-01/
CATEGORIES:Birthdays
ATTACH;FMTTYPE=image/png:https://rotarynansana.com/wp-content/uploads/2021/11/Kiiza-Johnson.png
END:VEVENT
BEGIN:VEVENT
DTSTART;TZID=Africa/Kampala:20220223T190000
DTEND;TZID=Africa/Kampala:20220223T200000
DTSTAMP:20260421T063426
CREATED:20211101T094829Z
LAST-MODIFIED:20211104T010552Z
UID:10000268-1645642800-1645646400@rotarynansana.com
SUMMARY:Weekly Fellowship
DESCRIPTION:
URL:https://rotarynansana.com/event/weekly-meeting/2022-02-23/
LOCATION:Ivory Hotel\, Nansana\, Kampala\, Uganda
ATTACH;FMTTYPE=image/png:https://rotarynansana.com/wp-content/uploads/2021/10/launch.png
ORGANIZER;CN="Rotary Club Nansana":MAILTO:info@rotarynansana.com
END:VEVENT
BEGIN:VEVENT
DTSTART;VALUE=DATE:20220220
DTEND;VALUE=DATE:20220221
DTSTAMP:20260421T063426
CREATED:20211115T234327Z
LAST-MODIFIED:20211115T234327Z
UID:10000326-1645315200-1645401599@rotarynansana.com
SUMMARY:Aloysius Kyeyune Ssemmanda’s Anniversary
DESCRIPTION:
URL:https://rotarynansana.com/event/aloysius-kyeyune-ssemmandas-anniversary/2022-02-20/
CATEGORIES:Anniversaries
ATTACH;FMTTYPE=image/png:https://rotarynansana.com/wp-content/uploads/2021/11/anniversary.png
END:VEVENT
BEGIN:VEVENT
DTSTART;TZID=Africa/Kampala:20220216T190000
DTEND;TZID=Africa/Kampala:20220216T200000
DTSTAMP:20260421T063426
CREATED:20211101T094829Z
LAST-MODIFIED:20211104T010552Z
UID:10000267-1645038000-1645041600@rotarynansana.com
SUMMARY:Weekly Fellowship
DESCRIPTION:
URL:https://rotarynansana.com/event/weekly-meeting/2022-02-16/
LOCATION:Ivory Hotel\, Nansana\, Kampala\, Uganda
ATTACH;FMTTYPE=image/png:https://rotarynansana.com/wp-content/uploads/2021/10/launch.png
ORGANIZER;CN="Rotary Club Nansana":MAILTO:info@rotarynansana.com
END:VEVENT
BEGIN:VEVENT
DTSTART;VALUE=DATE:20220215
DTEND;VALUE=DATE:20220216
DTSTAMP:20260421T063426
CREATED:20211116T002549Z
LAST-MODIFIED:20211116T002549Z
UID:10000088-1644883200-1644969599@rotarynansana.com
SUMMARY:African Muhangi's Birthday
DESCRIPTION:
URL:https://rotarynansana.com/event/african-muhangis-birthday/2022-02-15/
CATEGORIES:Birthdays
ATTACH;FMTTYPE=image/png:https://rotarynansana.com/wp-content/uploads/2021/11/African-Muhangi.png
END:VEVENT
BEGIN:VEVENT
DTSTART;VALUE=DATE:20220213
DTEND;VALUE=DATE:20220214
DTSTAMP:20260421T063426
CREATED:20211115T233915Z
LAST-MODIFIED:20211115T233915Z
UID:10000102-1644710400-1644796799@rotarynansana.com
SUMMARY:Mulumba Wasswa John's Birthday
DESCRIPTION:
URL:https://rotarynansana.com/event/mulumba-wasswa-johns-birthday/2022-02-13/
CATEGORIES:Birthdays
ATTACH;FMTTYPE=image/png:https://rotarynansana.com/wp-content/uploads/2021/11/Mulumba-Wasswa-John.png
END:VEVENT
BEGIN:VEVENT
DTSTART;TZID=Africa/Kampala:20220209T190000
DTEND;TZID=Africa/Kampala:20220209T200000
DTSTAMP:20260421T063426
CREATED:20211101T094829Z
LAST-MODIFIED:20211104T010552Z
UID:10000266-1644433200-1644436800@rotarynansana.com
SUMMARY:Weekly Fellowship
DESCRIPTION:
URL:https://rotarynansana.com/event/weekly-meeting/2022-02-09/
LOCATION:Ivory Hotel\, Nansana\, Kampala\, Uganda
ATTACH;FMTTYPE=image/png:https://rotarynansana.com/wp-content/uploads/2021/10/launch.png
ORGANIZER;CN="Rotary Club Nansana":MAILTO:info@rotarynansana.com
END:VEVENT
BEGIN:VEVENT
DTSTART;VALUE=DATE:20220208
DTEND;VALUE=DATE:20220209
DTSTAMP:20260421T063426
CREATED:20211116T003309Z
LAST-MODIFIED:20211116T003309Z
UID:10000421-1644278400-1644364799@rotarynansana.com
SUMMARY:Kibuuka George Willam Sebaggala’s Anniversary
DESCRIPTION:
URL:https://rotarynansana.com/event/kibuuka-george-willam-sebaggalas-anniversary/2022-02-08/
CATEGORIES:Anniversaries
ATTACH;FMTTYPE=image/png:https://rotarynansana.com/wp-content/uploads/2021/11/Kibuuka-George-Willam-Sebaggala.png
END:VEVENT
BEGIN:VEVENT
DTSTART;TZID=Africa/Kampala:20220202T190000
DTEND;TZID=Africa/Kampala:20220202T200000
DTSTAMP:20260421T063426
CREATED:20211101T094829Z
LAST-MODIFIED:20211104T010552Z
UID:10000265-1643828400-1643832000@rotarynansana.com
SUMMARY:Weekly Fellowship
DESCRIPTION:
URL:https://rotarynansana.com/event/weekly-meeting/2022-02-02/
LOCATION:Ivory Hotel\, Nansana\, Kampala\, Uganda
ATTACH;FMTTYPE=image/png:https://rotarynansana.com/wp-content/uploads/2021/10/launch.png
ORGANIZER;CN="Rotary Club Nansana":MAILTO:info@rotarynansana.com
END:VEVENT
BEGIN:VEVENT
DTSTART;VALUE=DATE:20220131
DTEND;VALUE=DATE:20220201
DTSTAMP:20260421T063426
CREATED:20220107T230250Z
LAST-MODIFIED:20220107T230250Z
UID:10000099-1643587200-1643673599@rotarynansana.com
SUMMARY:Resume Construction of Nakuule Rotary Hospital
DESCRIPTION:
URL:https://rotarynansana.com/event/resume-construction-of-nakuule-rotary-hospital/
CATEGORIES:Club Events
ATTACH;FMTTYPE=image/png:https://rotarynansana.com/wp-content/uploads/2021/10/launch.png
END:VEVENT
BEGIN:VEVENT
DTSTART;TZID=Africa/Kampala:20220126T190000
DTEND;TZID=Africa/Kampala:20220126T200000
DTSTAMP:20260421T063426
CREATED:20211101T094829Z
LAST-MODIFIED:20211104T010552Z
UID:10000264-1643223600-1643227200@rotarynansana.com
SUMMARY:Weekly Fellowship
DESCRIPTION:
URL:https://rotarynansana.com/event/weekly-meeting/2022-01-26/
LOCATION:Ivory Hotel\, Nansana\, Kampala\, Uganda
ATTACH;FMTTYPE=image/png:https://rotarynansana.com/wp-content/uploads/2021/10/launch.png
ORGANIZER;CN="Rotary Club Nansana":MAILTO:info@rotarynansana.com
END:VEVENT
BEGIN:VEVENT
DTSTART;VALUE=DATE:20220123
DTEND;VALUE=DATE:20220124
DTSTAMP:20260421T063426
CREATED:20211115T235011Z
LAST-MODIFIED:20211115T235011Z
UID:10000179-1642896000-1642982399@rotarynansana.com
SUMMARY:Kakeeto Bernard's Birthday
DESCRIPTION:
URL:https://rotarynansana.com/event/kakeeto-bernards-birthday/2022-01-23/
CATEGORIES:Birthdays
ATTACH;FMTTYPE=image/png:https://rotarynansana.com/wp-content/uploads/2021/11/Kakeeto-Bernard.png
END:VEVENT
BEGIN:VEVENT
DTSTART;TZID=Africa/Kampala:20220119T190000
DTEND;TZID=Africa/Kampala:20220119T200000
DTSTAMP:20260421T063426
CREATED:20211101T094829Z
LAST-MODIFIED:20211104T010552Z
UID:10000263-1642618800-1642622400@rotarynansana.com
SUMMARY:Weekly Fellowship
DESCRIPTION:
URL:https://rotarynansana.com/event/weekly-meeting/2022-01-19/
LOCATION:Ivory Hotel\, Nansana\, Kampala\, Uganda
ATTACH;FMTTYPE=image/png:https://rotarynansana.com/wp-content/uploads/2021/10/launch.png
ORGANIZER;CN="Rotary Club Nansana":MAILTO:info@rotarynansana.com
END:VEVENT
BEGIN:VEVENT
DTSTART;VALUE=DATE:20220119
DTEND;VALUE=DATE:20220120
DTSTAMP:20260421T063426
CREATED:20211116T000426Z
LAST-MODIFIED:20211116T000426Z
UID:10000016-1642550400-1642636799@rotarynansana.com
SUMMARY:Mukasa Fred's Birthday
DESCRIPTION:
URL:https://rotarynansana.com/event/mukasa-freds-birthday/2022-01-19/
CATEGORIES:Birthdays
ATTACH;FMTTYPE=image/png:https://rotarynansana.com/wp-content/uploads/2021/11/Mukasa-Fred.png
END:VEVENT
BEGIN:VEVENT
DTSTART;TZID=Africa/Kampala:20220112T190000
DTEND;TZID=Africa/Kampala:20220112T200000
DTSTAMP:20260421T063426
CREATED:20211101T094829Z
LAST-MODIFIED:20211104T010552Z
UID:10000262-1642014000-1642017600@rotarynansana.com
SUMMARY:Weekly Fellowship
DESCRIPTION:
URL:https://rotarynansana.com/event/weekly-meeting/2022-01-12/
LOCATION:Ivory Hotel\, Nansana\, Kampala\, Uganda
ATTACH;FMTTYPE=image/png:https://rotarynansana.com/wp-content/uploads/2021/10/launch.png
ORGANIZER;CN="Rotary Club Nansana":MAILTO:info@rotarynansana.com
END:VEVENT
BEGIN:VEVENT
DTSTART;TZID=Africa/Kampala:20220105T190000
DTEND;TZID=Africa/Kampala:20220105T200000
DTSTAMP:20260421T063426
CREATED:20211101T094829Z
LAST-MODIFIED:20211104T010552Z
UID:10000261-1641409200-1641412800@rotarynansana.com
SUMMARY:Weekly Fellowship
DESCRIPTION:
URL:https://rotarynansana.com/event/weekly-meeting/2022-01-05/
LOCATION:Ivory Hotel\, Nansana\, Kampala\, Uganda
ATTACH;FMTTYPE=image/png:https://rotarynansana.com/wp-content/uploads/2021/10/launch.png
ORGANIZER;CN="Rotary Club Nansana":MAILTO:info@rotarynansana.com
END:VEVENT
BEGIN:VEVENT
DTSTART;VALUE=DATE:20220101
DTEND;VALUE=DATE:20220102
DTSTAMP:20260421T063426
CREATED:20211115T234928Z
LAST-MODIFIED:20211115T234928Z
UID:10000115-1640995200-1641081599@rotarynansana.com
SUMMARY:Wasswa Godfrey's Birthday
DESCRIPTION:
URL:https://rotarynansana.com/event/wasswa-godfreys-birthday/2022-01-01/
CATEGORIES:Birthdays
ATTACH;FMTTYPE=image/png:https://rotarynansana.com/wp-content/uploads/2021/11/Wasswa-Godfrey.png
END:VEVENT
BEGIN:VEVENT
DTSTART;VALUE=DATE:20211230
DTEND;VALUE=DATE:20211231
DTSTAMP:20260421T063426
CREATED:20211116T001115Z
LAST-MODIFIED:20211116T001115Z
UID:10000375-1640822400-1640908799@rotarynansana.com
SUMMARY:Christine Nalubwama Gwanja's Birthday
DESCRIPTION:
URL:https://rotarynansana.com/event/christine-nalubwama-gwanjas-birthday/2021-12-30/
CATEGORIES:Birthdays
ATTACH;FMTTYPE=image/png:https://rotarynansana.com/wp-content/uploads/2021/11/Christine-Nalubwama-Gwanja.png
END:VEVENT
BEGIN:VEVENT
DTSTART;VALUE=DATE:20211230
DTEND;VALUE=DATE:20211231
DTSTAMP:20260421T063426
CREATED:20211115T232858Z
LAST-MODIFIED:20211115T232858Z
UID:10000120-1640822400-1640908799@rotarynansana.com
SUMMARY:Okello Obura Constant's Birthday
DESCRIPTION:
URL:https://rotarynansana.com/event/okello-obura-constants-birthday/2021-12-30/
CATEGORIES:Birthdays
ATTACH;FMTTYPE=image/png:https://rotarynansana.com/wp-content/uploads/2021/11/birthday.png
END:VEVENT
BEGIN:VEVENT
DTSTART;TZID=Africa/Kampala:20211229T190000
DTEND;TZID=Africa/Kampala:20211229T200000
DTSTAMP:20260421T063426
CREATED:20211101T094829Z
LAST-MODIFIED:20211104T010552Z
UID:10000260-1640804400-1640808000@rotarynansana.com
SUMMARY:Weekly Fellowship
DESCRIPTION:
URL:https://rotarynansana.com/event/weekly-meeting/2021-12-29/
LOCATION:Ivory Hotel\, Nansana\, Kampala\, Uganda
ATTACH;FMTTYPE=image/png:https://rotarynansana.com/wp-content/uploads/2021/10/launch.png
ORGANIZER;CN="Rotary Club Nansana":MAILTO:info@rotarynansana.com
END:VEVENT
BEGIN:VEVENT
DTSTART;VALUE=DATE:20211227
DTEND;VALUE=DATE:20211228
DTSTAMP:20260421T063426
CREATED:20211115T235704Z
LAST-MODIFIED:20211115T235704Z
UID:10000360-1640563200-1640649599@rotarynansana.com
SUMMARY:Patrick Barugahare's Birthday
DESCRIPTION:
URL:https://rotarynansana.com/event/patrick-barugahares-birthday/2021-12-27/
CATEGORIES:Birthdays
ATTACH;FMTTYPE=image/png:https://rotarynansana.com/wp-content/uploads/2021/11/birthday.png
END:VEVENT
BEGIN:VEVENT
DTSTART;VALUE=DATE:20211223
DTEND;VALUE=DATE:20211224
DTSTAMP:20260421T063426
CREATED:20211115T231613Z
LAST-MODIFIED:20211115T231613Z
UID:10000227-1640217600-1640303999@rotarynansana.com
SUMMARY:Henry Duku's Birthday
DESCRIPTION:
URL:https://rotarynansana.com/event/henry-dukus-birthday/2021-12-23/
CATEGORIES:Birthdays
ATTACH;FMTTYPE=image/png:https://rotarynansana.com/wp-content/uploads/2021/11/Duku-Henry.png
END:VEVENT
BEGIN:VEVENT
DTSTART;TZID=Africa/Kampala:20211222T190000
DTEND;TZID=Africa/Kampala:20211222T200000
DTSTAMP:20260421T063426
CREATED:20211101T094829Z
LAST-MODIFIED:20211104T010552Z
UID:10000259-1640199600-1640203200@rotarynansana.com
SUMMARY:Weekly Fellowship
DESCRIPTION:
URL:https://rotarynansana.com/event/weekly-meeting/2021-12-22/
LOCATION:Ivory Hotel\, Nansana\, Kampala\, Uganda
ATTACH;FMTTYPE=image/png:https://rotarynansana.com/wp-content/uploads/2021/10/launch.png
ORGANIZER;CN="Rotary Club Nansana":MAILTO:info@rotarynansana.com
END:VEVENT
BEGIN:VEVENT
DTSTART;VALUE=DATE:20211217
DTEND;VALUE=DATE:20211218
DTSTAMP:20260421T063426
CREATED:20211116T002706Z
LAST-MODIFIED:20211116T002706Z
UID:10000051-1639699200-1639785599@rotarynansana.com
SUMMARY:John Robert Okware’s Anniversary
DESCRIPTION:
URL:https://rotarynansana.com/event/john-robert-okwares-anniversary/2021-12-17/
CATEGORIES:Anniversaries
ATTACH;FMTTYPE=image/png:https://rotarynansana.com/wp-content/uploads/2021/11/anniversary.png
END:VEVENT
BEGIN:VEVENT
DTSTART;TZID=Africa/Kampala:20211215T190000
DTEND;TZID=Africa/Kampala:20211215T200000
DTSTAMP:20260421T063426
CREATED:20211101T094829Z
LAST-MODIFIED:20211104T010552Z
UID:10000258-1639594800-1639598400@rotarynansana.com
SUMMARY:Weekly Fellowship
DESCRIPTION:
URL:https://rotarynansana.com/event/weekly-meeting/2021-12-15/
LOCATION:Ivory Hotel\, Nansana\, Kampala\, Uganda
ATTACH;FMTTYPE=image/png:https://rotarynansana.com/wp-content/uploads/2021/10/launch.png
ORGANIZER;CN="Rotary Club Nansana":MAILTO:info@rotarynansana.com
END:VEVENT
BEGIN:VEVENT
DTSTART;VALUE=DATE:20211213
DTEND;VALUE=DATE:20211214
DTSTAMP:20260421T063426
CREATED:20211115T232541Z
LAST-MODIFIED:20211115T232541Z
UID:10000144-1639353600-1639439999@rotarynansana.com
SUMMARY:Ruyooka Anthony’s Anniversary
DESCRIPTION:
URL:https://rotarynansana.com/event/ruyooka-anthonys-anniversary/2021-12-13/
CATEGORIES:Anniversaries
ATTACH;FMTTYPE=image/png:https://rotarynansana.com/wp-content/uploads/2021/11/Ruyooka-Anthony.png
END:VEVENT
END:VCALENDAR