BEGIN:VCALENDAR
VERSION:2.0
PRODID:-//Rotary Club of Nansana - ECPv6.3.5//NONSGML v1.0//EN
CALSCALE:GREGORIAN
METHOD:PUBLISH
X-WR-CALNAME:Rotary Club of Nansana
X-ORIGINAL-URL:https://rotarynansana.com
X-WR-CALDESC:Events for Rotary Club of Nansana
REFRESH-INTERVAL;VALUE=DURATION:PT1H
X-Robots-Tag:noindex
X-PUBLISHED-TTL:PT1H
BEGIN:VTIMEZONE
TZID:Africa/Kampala
BEGIN:STANDARD
TZOFFSETFROM:+0300
TZOFFSETTO:+0300
TZNAME:EAT
DTSTART:20210101T000000
END:STANDARD
END:VTIMEZONE
BEGIN:VEVENT
DTSTART;VALUE=DATE:20211010
DTEND;VALUE=DATE:20211011
DTSTAMP:20260421T065135
CREATED:20211115T233457Z
LAST-MODIFIED:20211115T233457Z
UID:10000310-1633824000-1633910399@rotarynansana.com
SUMMARY:Nabende Stephen's Birthday
DESCRIPTION:
URL:https://rotarynansana.com/event/nabende-stephens-birthday/2021-10-10/
CATEGORIES:Birthdays
ATTACH;FMTTYPE=image/png:https://rotarynansana.com/wp-content/uploads/2021/11/Nabende-Stephen.png
END:VEVENT
BEGIN:VEVENT
DTSTART;VALUE=DATE:20211007
DTEND;VALUE=DATE:20211008
DTSTAMP:20260421T065135
CREATED:20211115T231727Z
LAST-MODIFIED:20211115T231727Z
UID:10000232-1633564800-1633651199@rotarynansana.com
SUMMARY:Henry Duku’s Anniversary
DESCRIPTION:
URL:https://rotarynansana.com/event/henry-dukus-anniversary/2021-10-07/
CATEGORIES:Anniversaries
ATTACH;FMTTYPE=image/png:https://rotarynansana.com/wp-content/uploads/2021/11/Duku-Henry.png
END:VEVENT
BEGIN:VEVENT
DTSTART;VALUE=DATE:20211007
DTEND;VALUE=DATE:20211008
DTSTAMP:20260421T065135
CREATED:20211115T231438Z
LAST-MODIFIED:20211115T231438Z
UID:10000222-1633564800-1633651199@rotarynansana.com
SUMMARY:Rebecca Mukasa Mutaawe’s Anniversary
DESCRIPTION:
URL:https://rotarynansana.com/event/rebecca-mukasa-mutaawes-anniversary/2021-10-07/
CATEGORIES:Anniversaries
ATTACH;FMTTYPE=image/png:https://rotarynansana.com/wp-content/uploads/2021/11/Rebecca-Mukasa-Mutaawe.png
END:VEVENT
BEGIN:VEVENT
DTSTART;VALUE=DATE:20211003
DTEND;VALUE=DATE:20211004
DTSTAMP:20260421T065135
CREATED:20211115T232100Z
LAST-MODIFIED:20211115T232100Z
UID:10000237-1633219200-1633305599@rotarynansana.com
SUMMARY:Namirembe  Rebecca's Birthday
DESCRIPTION:
URL:https://rotarynansana.com/event/namirembe-rebeccas-birthday/2021-10-03/
CATEGORIES:Birthdays
ATTACH;FMTTYPE=image/png:https://rotarynansana.com/wp-content/uploads/2021/11/birthday.png
END:VEVENT
BEGIN:VEVENT
DTSTART;VALUE=DATE:20211002
DTEND;VALUE=DATE:20211003
DTSTAMP:20260421T065135
CREATED:20211115T233408Z
LAST-MODIFIED:20211115T233408Z
UID:10000305-1633132800-1633219199@rotarynansana.com
SUMMARY:Ahurra Priscilla's Birthday
DESCRIPTION:
URL:https://rotarynansana.com/event/ahurra-priscillas-birthday/2021-10-02/
CATEGORIES:Birthdays
ATTACH;FMTTYPE=image/png:https://rotarynansana.com/wp-content/uploads/2021/11/birthday.png
END:VEVENT
BEGIN:VEVENT
DTSTART;VALUE=DATE:20210927
DTEND;VALUE=DATE:20210928
DTSTAMP:20260421T065135
CREATED:20211116T001343Z
LAST-MODIFIED:20211116T001343Z
UID:10000390-1632700800-1632787199@rotarynansana.com
SUMMARY:Abubaker Kawenja’s Anniversary
DESCRIPTION:
URL:https://rotarynansana.com/event/abubaker-kawenjas-anniversary/2021-09-27/
CATEGORIES:Anniversaries
ATTACH;FMTTYPE=image/png:https://rotarynansana.com/wp-content/uploads/2021/11/anniversary.png
END:VEVENT
BEGIN:VEVENT
DTSTART;VALUE=DATE:20210927
DTEND;VALUE=DATE:20210928
DTSTAMP:20260421T065135
CREATED:20211115T233035Z
LAST-MODIFIED:20211115T233035Z
UID:10000295-1632700800-1632787199@rotarynansana.com
SUMMARY:Josephine Katende Kalule's Birthday
DESCRIPTION:
URL:https://rotarynansana.com/event/josephine-katende-kalules-birthday/2021-09-27/
CATEGORIES:Birthdays
ATTACH;FMTTYPE=image/png:https://rotarynansana.com/wp-content/uploads/2021/11/birthday.png
END:VEVENT
BEGIN:VEVENT
DTSTART;VALUE=DATE:20210926
DTEND;VALUE=DATE:20210927
DTSTAMP:20260421T065135
CREATED:20211115T235404Z
LAST-MODIFIED:20211115T235404Z
UID:10000350-1632614400-1632700799@rotarynansana.com
SUMMARY:Bakyusa Alfred’s Anniversary
DESCRIPTION:
URL:https://rotarynansana.com/event/bakyusa-alfreds-anniversary/2021-09-26/
CATEGORIES:Anniversaries
ATTACH;FMTTYPE=image/png:https://rotarynansana.com/wp-content/uploads/2021/11/Bakyusa-Alfred.png
END:VEVENT
BEGIN:VEVENT
DTSTART;TZID=Africa/Kampala:20210923T080000
DTEND;TZID=Africa/Kampala:20210923T170000
DTSTAMP:20260421T065135
CREATED:20211116T002751Z
LAST-MODIFIED:20211116T002751Z
UID:10000056-1632384000-1632416400@rotarynansana.com
SUMMARY:Margaret Mbabazi Abwooli's Birthday
DESCRIPTION:
URL:https://rotarynansana.com/event/margaret-mbabazi-abwoolis-birthday/2021-09-23/
CATEGORIES:Birthdays
ATTACH;FMTTYPE=image/png:https://rotarynansana.com/wp-content/uploads/2021/11/Margaret-Mbabazi-Abwooli.png
END:VEVENT
BEGIN:VEVENT
DTSTART;VALUE=DATE:20210920
DTEND;VALUE=DATE:20210921
DTSTAMP:20260421T065135
CREATED:20211115T235819Z
LAST-MODIFIED:20211115T235819Z
UID:10000365-1632096000-1632182399@rotarynansana.com
SUMMARY:Patrick Barugahare’s Anniversary
DESCRIPTION:
URL:https://rotarynansana.com/event/patrick-barugahares-anniversary/2021-09-20/
CATEGORIES:Anniversaries
ATTACH;FMTTYPE=image/png:https://rotarynansana.com/wp-content/uploads/2021/11/anniversary.png
END:VEVENT
BEGIN:VEVENT
DTSTART;VALUE=DATE:20210919
DTEND;VALUE=DATE:20210920
DTSTAMP:20260421T065135
CREATED:20211115T233602Z
LAST-MODIFIED:20211115T233602Z
UID:10000183-1632009600-1632095999@rotarynansana.com
SUMMARY:Nabende Stephen’s Anniversary
DESCRIPTION:
URL:https://rotarynansana.com/event/nabende-stephens-anniversary/2021-09-19/
CATEGORIES:Anniversaries
ATTACH;FMTTYPE=image/png:https://rotarynansana.com/wp-content/uploads/2021/11/Nabende-Stephen.png
END:VEVENT
BEGIN:VEVENT
DTSTART;VALUE=DATE:20210912
DTEND;VALUE=DATE:20210913
DTSTAMP:20260421T065135
CREATED:20211116T002115Z
LAST-MODIFIED:20211116T002115Z
UID:10000399-1631404800-1631491199@rotarynansana.com
SUMMARY:Dr. Ssebulime Stephen’s Anniversary
DESCRIPTION:
URL:https://rotarynansana.com/event/dr-ssebulime-stephens-anniversary/2021-09-12/
CATEGORIES:Anniversaries
ATTACH;FMTTYPE=image/png:https://rotarynansana.com/wp-content/uploads/2021/11/anniversary.png
END:VEVENT
BEGIN:VEVENT
DTSTART;VALUE=DATE:20210909
DTEND;VALUE=DATE:20210910
DTSTAMP:20260421T065135
CREATED:20211115T234521Z
LAST-MODIFIED:20211115T234521Z
UID:10000335-1631145600-1631231999@rotarynansana.com
SUMMARY:Mubangizi Jotham’s Anniversary
DESCRIPTION:
URL:https://rotarynansana.com/event/mubangizi-jothams-anniversary/2021-09-09/
CATEGORIES:Anniversaries
ATTACH;FMTTYPE=image/png:https://rotarynansana.com/wp-content/uploads/2021/11/anniversary.png
END:VEVENT
BEGIN:VEVENT
DTSTART;VALUE=DATE:20210905
DTEND;VALUE=DATE:20210906
DTSTAMP:20260421T065135
CREATED:20211115T231238Z
LAST-MODIFIED:20211115T231238Z
UID:10000207-1630800000-1630886399@rotarynansana.com
SUMMARY:Matovu Stephen’s Anniversary
DESCRIPTION:
URL:https://rotarynansana.com/event/matovu-stephens-anniversary/2021-09-05/
CATEGORIES:Anniversaries
ATTACH;FMTTYPE=image/png:https://rotarynansana.com/wp-content/uploads/2021/11/Matovu-Stephen.png
END:VEVENT
BEGIN:VEVENT
DTSTART;VALUE=DATE:20210828
DTEND;VALUE=DATE:20210829
DTSTAMP:20260421T065135
CREATED:20211116T000057Z
LAST-MODIFIED:20211116T000057Z
UID:10000006-1630108800-1630195199@rotarynansana.com
SUMMARY:Geoffrey Hairora's Birthday
DESCRIPTION:
URL:https://rotarynansana.com/event/geoffrey-hairoras-birthday/2021-08-28/
CATEGORIES:Birthdays
ATTACH;FMTTYPE=image/png:https://rotarynansana.com/wp-content/uploads/2021/11/Geoffrey-Hairora.png
END:VEVENT
BEGIN:VEVENT
DTSTART;VALUE=DATE:20210822
DTEND;VALUE=DATE:20210823
DTSTAMP:20260421T065135
CREATED:20211115T235953Z
LAST-MODIFIED:20211116T000002Z
UID:10000036-1629590400-1629676799@rotarynansana.com
SUMMARY:Ngabirano Dennis’s Anniversary
DESCRIPTION:
URL:https://rotarynansana.com/event/1086/2021-08-22/
CATEGORIES:Anniversaries
ATTACH;FMTTYPE=image/png:https://rotarynansana.com/wp-content/uploads/2021/11/Ngabirano-Dennis.png
END:VEVENT
BEGIN:VEVENT
DTSTART;VALUE=DATE:20210818
DTEND;VALUE=DATE:20210819
DTSTAMP:20260421T065135
CREATED:20211115T231130Z
LAST-MODIFIED:20211115T231130Z
UID:10000169-1629244800-1629331199@rotarynansana.com
SUMMARY:Matovu Stephen's Birthday
DESCRIPTION:
URL:https://rotarynansana.com/event/matovu-stephens-birthday/2021-08-18/
CATEGORIES:Birthdays
ATTACH;FMTTYPE=image/png:https://rotarynansana.com/wp-content/uploads/2021/11/Matovu-Stephen.png
END:VEVENT
BEGIN:VEVENT
DTSTART;VALUE=DATE:20210815
DTEND;VALUE=DATE:20210816
DTSTAMP:20260421T065135
CREATED:20211116T003528Z
LAST-MODIFIED:20211116T003528Z
UID:10000430-1628985600-1629071999@rotarynansana.com
SUMMARY:Darius Atukunda's Birthday
DESCRIPTION:
URL:https://rotarynansana.com/event/darius-atukundas-birthday/2021-08-15/
CATEGORIES:Birthdays
ATTACH;FMTTYPE=image/png:https://rotarynansana.com/wp-content/uploads/2021/11/birthday.png
END:VEVENT
BEGIN:VEVENT
DTSTART;VALUE=DATE:20210815
DTEND;VALUE=DATE:20210816
DTSTAMP:20260421T065135
CREATED:20211115T232449Z
LAST-MODIFIED:20211115T232449Z
UID:10000149-1628985600-1629071999@rotarynansana.com
SUMMARY:Ruyooka Anthony's Birthday
DESCRIPTION:
URL:https://rotarynansana.com/event/ruyooka-anthonys-birthday/2021-08-15/
CATEGORIES:Birthdays
ATTACH;FMTTYPE=image/png:https://rotarynansana.com/wp-content/uploads/2021/11/Ruyooka-Anthony.png
END:VEVENT
BEGIN:VEVENT
DTSTART;VALUE=DATE:20210801
DTEND;VALUE=DATE:20210802
DTSTAMP:20260421T065135
CREATED:20211116T002508Z
LAST-MODIFIED:20211116T002508Z
UID:10000083-1627776000-1627862399@rotarynansana.com
SUMMARY:Obel Benerd Dexuoxuos's Birthday
DESCRIPTION:
URL:https://rotarynansana.com/event/obel-benerd-dexuoxuoss-birthday/2021-08-01/
CATEGORIES:Birthdays
ATTACH;FMTTYPE=image/png:https://rotarynansana.com/wp-content/uploads/2021/11/Obel-Benerd-Dexuoxuos.png
END:VEVENT
BEGIN:VEVENT
DTSTART;VALUE=DATE:20210725
DTEND;VALUE=DATE:20210726
DTSTAMP:20260421T065135
CREATED:20211116T000939Z
LAST-MODIFIED:20211116T000939Z
UID:10000001-1627171200-1627257599@rotarynansana.com
SUMMARY:Mutebe George's Birthday
DESCRIPTION:
URL:https://rotarynansana.com/event/mutebe-georges-birthday/2021-07-25/
CATEGORIES:Birthdays
ATTACH;FMTTYPE=image/png:https://rotarynansana.com/wp-content/uploads/2021/11/birthday.png
END:VEVENT
BEGIN:VEVENT
DTSTART;VALUE=DATE:20210720
DTEND;VALUE=DATE:20210721
DTSTAMP:20260421T065135
CREATED:20211116T000153Z
LAST-MODIFIED:20211116T000153Z
UID:10000011-1626739200-1626825599@rotarynansana.com
SUMMARY:Geoffrey Hairora’s Anniversary
DESCRIPTION:
URL:https://rotarynansana.com/event/geoffrey-hairoras-anniversary/2021-07-20/
CATEGORIES:Anniversaries
ATTACH;FMTTYPE=image/png:https://rotarynansana.com/wp-content/uploads/2021/11/Geoffrey-Hairora.png
END:VEVENT
BEGIN:VEVENT
DTSTART;VALUE=DATE:20210717
DTEND;VALUE=DATE:20210718
DTSTAMP:20260421T065135
CREATED:20211115T225012Z
LAST-MODIFIED:20211115T225012Z
UID:10000212-1626480000-1626566399@rotarynansana.com
SUMMARY:Flavia Nakasi's Birthday
DESCRIPTION:
URL:https://rotarynansana.com/event/flavia-nakasis-birthday/2021-07-17/
CATEGORIES:Birthdays
ATTACH;FMTTYPE=image/png:https://rotarynansana.com/wp-content/uploads/2021/11/birthday.png
END:VEVENT
BEGIN:VEVENT
DTSTART;VALUE=DATE:20210710
DTEND;VALUE=DATE:20210711
DTSTAMP:20260421T065135
CREATED:20211116T000344Z
LAST-MODIFIED:20211116T000344Z
UID:10000026-1625875200-1625961599@rotarynansana.com
SUMMARY:Lambert Rusoke’s Anniversary
DESCRIPTION:
URL:https://rotarynansana.com/event/lambert-rusokes-anniversary/2021-07-10/
CATEGORIES:Anniversaries
ATTACH;FMTTYPE=image/png:https://rotarynansana.com/wp-content/uploads/2021/11/Rusoke-Lambert-Brian.png
END:VEVENT
BEGIN:VEVENT
DTSTART;VALUE=DATE:20210704
DTEND;VALUE=DATE:20210705
DTSTAMP:20260421T065135
CREATED:20211115T235912Z
LAST-MODIFIED:20211115T235912Z
UID:10000046-1625356800-1625443199@rotarynansana.com
SUMMARY:Ngabirano Dennis's Birthday
DESCRIPTION:
URL:https://rotarynansana.com/event/ngabirano-denniss-birthday/2021-07-04/
CATEGORIES:Birthdays
ATTACH;FMTTYPE=image/png:https://rotarynansana.com/wp-content/uploads/2021/11/Ngabirano-Dennis.png
END:VEVENT
BEGIN:VEVENT
DTSTART;VALUE=DATE:20210623
DTEND;VALUE=DATE:20210624
DTSTAMP:20260421T065135
CREATED:20211115T230414Z
LAST-MODIFIED:20211115T230532Z
UID:10000164-1624406400-1624492799@rotarynansana.com
SUMMARY:Joseph Ssunna’s Anniversary
DESCRIPTION:
URL:https://rotarynansana.com/event/joseph-ssunnas-anniversary/2021-06-23/
CATEGORIES:Anniversaries
ATTACH;FMTTYPE=image/png:https://rotarynansana.com/wp-content/uploads/2021/11/anniversary.png
END:VEVENT
BEGIN:VEVENT
DTSTART;VALUE=DATE:20210613
DTEND;VALUE=DATE:20210614
DTSTAMP:20260421T065135
CREATED:20211115T230314Z
LAST-MODIFIED:20211115T230314Z
UID:10000217-1623542400-1623628799@rotarynansana.com
SUMMARY:Joseph Ssunna's Birthday
DESCRIPTION:
URL:https://rotarynansana.com/event/joseph-ssunnas-birthday/2021-06-13/
CATEGORIES:Birthdays
ATTACH;FMTTYPE=image/png:https://rotarynansana.com/wp-content/uploads/2021/11/birthday.png
END:VEVENT
BEGIN:VEVENT
DTSTART;VALUE=DATE:20210609
DTEND;VALUE=DATE:20210610
DTSTAMP:20260421T065135
CREATED:20211116T000247Z
LAST-MODIFIED:20211116T000247Z
UID:10000031-1623196800-1623283199@rotarynansana.com
SUMMARY:Lambert Rusoke's Birthday
DESCRIPTION:
URL:https://rotarynansana.com/event/lambert-rusokes-birthday/2021-06-09/
CATEGORIES:Birthdays
ATTACH;FMTTYPE=image/png:https://rotarynansana.com/wp-content/uploads/2021/11/Rusoke-Lambert-Brian.png
END:VEVENT
BEGIN:VEVENT
DTSTART;VALUE=DATE:20210602
DTEND;VALUE=DATE:20210603
DTSTAMP:20260421T065135
CREATED:20211116T000526Z
LAST-MODIFIED:20211116T000526Z
UID:10000021-1622592000-1622678399@rotarynansana.com
SUMMARY:Mukasa Fred’s Anniversary
DESCRIPTION:
URL:https://rotarynansana.com/event/mukasa-freds-anniversary/2021-06-02/
CATEGORIES:Anniversaries
ATTACH;FMTTYPE=image/png:https://rotarynansana.com/wp-content/uploads/2021/11/Mukasa-Fred.png
END:VEVENT
BEGIN:VEVENT
DTSTART;VALUE=DATE:20210528
DTEND;VALUE=DATE:20210529
DTSTAMP:20260421T065135
CREATED:20211116T001242Z
LAST-MODIFIED:20211116T004831Z
UID:10000385-1622160000-1622246399@rotarynansana.com
SUMMARY:Abubaker Kawenja's Birthday
DESCRIPTION:
URL:https://rotarynansana.com/event/abubaker-kawenjas-birthday/2021-05-28/
CATEGORIES:Birthdays
ATTACH;FMTTYPE=image/png:https://rotarynansana.com/wp-content/uploads/2021/11/birthday.png
END:VEVENT
END:VCALENDAR