BEGIN:VCALENDAR
VERSION:2.0
PRODID:-//Rotary Club of Nansana - ECPv6.3.5//NONSGML v1.0//EN
CALSCALE:GREGORIAN
METHOD:PUBLISH
X-WR-CALNAME:Rotary Club of Nansana
X-ORIGINAL-URL:https://rotarynansana.com
X-WR-CALDESC:Events for Rotary Club of Nansana
REFRESH-INTERVAL;VALUE=DURATION:PT1H
X-Robots-Tag:noindex
X-PUBLISHED-TTL:PT1H
BEGIN:VTIMEZONE
TZID:Africa/Kampala
BEGIN:STANDARD
TZOFFSETFROM:+0300
TZOFFSETTO:+0300
TZNAME:EAT
DTSTART:20210101T000000
END:STANDARD
END:VTIMEZONE
BEGIN:VEVENT
DTSTART;VALUE=DATE:20211227
DTEND;VALUE=DATE:20211228
DTSTAMP:20260421T090120
CREATED:20211115T235704Z
LAST-MODIFIED:20211115T235704Z
UID:10000360-1640563200-1640649599@rotarynansana.com
SUMMARY:Patrick Barugahare's Birthday
DESCRIPTION:
URL:https://rotarynansana.com/event/patrick-barugahares-birthday/2021-12-27/
CATEGORIES:Birthdays
ATTACH;FMTTYPE=image/png:https://rotarynansana.com/wp-content/uploads/2021/11/birthday.png
END:VEVENT
BEGIN:VEVENT
DTSTART;VALUE=DATE:20211223
DTEND;VALUE=DATE:20211224
DTSTAMP:20260421T090120
CREATED:20211115T231613Z
LAST-MODIFIED:20211115T231613Z
UID:10000227-1640217600-1640303999@rotarynansana.com
SUMMARY:Henry Duku's Birthday
DESCRIPTION:
URL:https://rotarynansana.com/event/henry-dukus-birthday/2021-12-23/
CATEGORIES:Birthdays
ATTACH;FMTTYPE=image/png:https://rotarynansana.com/wp-content/uploads/2021/11/Duku-Henry.png
END:VEVENT
BEGIN:VEVENT
DTSTART;TZID=Africa/Kampala:20211222T190000
DTEND;TZID=Africa/Kampala:20211222T200000
DTSTAMP:20260421T090120
CREATED:20211101T094829Z
LAST-MODIFIED:20211104T010552Z
UID:10000259-1640199600-1640203200@rotarynansana.com
SUMMARY:Weekly Fellowship
DESCRIPTION:
URL:https://rotarynansana.com/event/weekly-meeting/2021-12-22/
LOCATION:Ivory Hotel\, Nansana\, Kampala\, Uganda
ATTACH;FMTTYPE=image/png:https://rotarynansana.com/wp-content/uploads/2021/10/launch.png
ORGANIZER;CN="Rotary Club Nansana":MAILTO:info@rotarynansana.com
END:VEVENT
BEGIN:VEVENT
DTSTART;VALUE=DATE:20211217
DTEND;VALUE=DATE:20211218
DTSTAMP:20260421T090120
CREATED:20211116T002706Z
LAST-MODIFIED:20211116T002706Z
UID:10000051-1639699200-1639785599@rotarynansana.com
SUMMARY:John Robert Okware’s Anniversary
DESCRIPTION:
URL:https://rotarynansana.com/event/john-robert-okwares-anniversary/2021-12-17/
CATEGORIES:Anniversaries
ATTACH;FMTTYPE=image/png:https://rotarynansana.com/wp-content/uploads/2021/11/anniversary.png
END:VEVENT
BEGIN:VEVENT
DTSTART;TZID=Africa/Kampala:20211215T190000
DTEND;TZID=Africa/Kampala:20211215T200000
DTSTAMP:20260421T090120
CREATED:20211101T094829Z
LAST-MODIFIED:20211104T010552Z
UID:10000258-1639594800-1639598400@rotarynansana.com
SUMMARY:Weekly Fellowship
DESCRIPTION:
URL:https://rotarynansana.com/event/weekly-meeting/2021-12-15/
LOCATION:Ivory Hotel\, Nansana\, Kampala\, Uganda
ATTACH;FMTTYPE=image/png:https://rotarynansana.com/wp-content/uploads/2021/10/launch.png
ORGANIZER;CN="Rotary Club Nansana":MAILTO:info@rotarynansana.com
END:VEVENT
BEGIN:VEVENT
DTSTART;VALUE=DATE:20211213
DTEND;VALUE=DATE:20211214
DTSTAMP:20260421T090120
CREATED:20211115T232541Z
LAST-MODIFIED:20211115T232541Z
UID:10000144-1639353600-1639439999@rotarynansana.com
SUMMARY:Ruyooka Anthony’s Anniversary
DESCRIPTION:
URL:https://rotarynansana.com/event/ruyooka-anthonys-anniversary/2021-12-13/
CATEGORIES:Anniversaries
ATTACH;FMTTYPE=image/png:https://rotarynansana.com/wp-content/uploads/2021/11/Ruyooka-Anthony.png
END:VEVENT
BEGIN:VEVENT
DTSTART;VALUE=DATE:20211212
DTEND;VALUE=DATE:20211213
DTSTAMP:20260421T090120
CREATED:20211116T001026Z
LAST-MODIFIED:20211116T001026Z
UID:10000370-1639267200-1639353599@rotarynansana.com
SUMMARY:Mutebe George’s Anniversary
DESCRIPTION:
URL:https://rotarynansana.com/event/mutebe-georges-anniversary/2021-12-12/
CATEGORIES:Anniversaries
ATTACH;FMTTYPE=image/png:https://rotarynansana.com/wp-content/uploads/2021/11/anniversary.png
END:VEVENT
BEGIN:VEVENT
DTSTART;VALUE=DATE:20211209
DTEND;VALUE=DATE:20211210
DTSTAMP:20260421T090120
CREATED:20211115T232155Z
LAST-MODIFIED:20211115T232155Z
UID:10000242-1639008000-1639094399@rotarynansana.com
SUMMARY:Namirembe  Rebecca’s Anniversary
DESCRIPTION:
URL:https://rotarynansana.com/event/namirembe-rebeccas-anniversary/2021-12-09/
CATEGORIES:Anniversaries
ATTACH;FMTTYPE=image/png:https://rotarynansana.com/wp-content/uploads/2021/11/anniversary.png
END:VEVENT
BEGIN:VEVENT
DTSTART;TZID=Africa/Kampala:20211208T190000
DTEND;TZID=Africa/Kampala:20211208T200000
DTSTAMP:20260421T090120
CREATED:20211101T094829Z
LAST-MODIFIED:20211104T010552Z
UID:10000257-1638990000-1638993600@rotarynansana.com
SUMMARY:Weekly Fellowship
DESCRIPTION:
URL:https://rotarynansana.com/event/weekly-meeting/2021-12-08/
LOCATION:Ivory Hotel\, Nansana\, Kampala\, Uganda
ATTACH;FMTTYPE=image/png:https://rotarynansana.com/wp-content/uploads/2021/10/launch.png
ORGANIZER;CN="Rotary Club Nansana":MAILTO:info@rotarynansana.com
END:VEVENT
BEGIN:VEVENT
DTSTART;VALUE=DATE:20211207
DTEND;VALUE=DATE:20211208
DTSTAMP:20260421T090120
CREATED:20211116T000701Z
LAST-MODIFIED:20211116T000701Z
UID:10000041-1638835200-1638921599@rotarynansana.com
SUMMARY:Nsubuga Dathan Douglas's Birthday
DESCRIPTION:
URL:https://rotarynansana.com/event/nsubuga-dathan-douglass-birthday/2021-12-07/
CATEGORIES:Birthdays
ATTACH;FMTTYPE=image/png:https://rotarynansana.com/wp-content/uploads/2021/11/Nsubuga-Dathan-Douglas.png
END:VEVENT
BEGIN:VEVENT
DTSTART;VALUE=DATE:20211206
DTEND;VALUE=DATE:20211207
DTSTAMP:20260421T090120
CREATED:20211115T230715Z
LAST-MODIFIED:20211115T230715Z
UID:10000159-1638748800-1638835199@rotarynansana.com
SUMMARY:Richard Were's Birthday
DESCRIPTION:
URL:https://rotarynansana.com/event/richard-weres-birthday/2021-12-06/
CATEGORIES:Birthdays
ATTACH;FMTTYPE=image/png:https://rotarynansana.com/wp-content/uploads/2021/11/Were-Richard.png
END:VEVENT
BEGIN:VEVENT
DTSTART;TZID=Africa/Kampala:20211201T190000
DTEND;TZID=Africa/Kampala:20211201T200000
DTSTAMP:20260421T090120
CREATED:20211101T094829Z
LAST-MODIFIED:20211104T010552Z
UID:10000256-1638385200-1638388800@rotarynansana.com
SUMMARY:Weekly Fellowship
DESCRIPTION:
URL:https://rotarynansana.com/event/weekly-meeting/2021-12-01/
LOCATION:Ivory Hotel\, Nansana\, Kampala\, Uganda
ATTACH;FMTTYPE=image/png:https://rotarynansana.com/wp-content/uploads/2021/10/launch.png
ORGANIZER;CN="Rotary Club Nansana":MAILTO:info@rotarynansana.com
END:VEVENT
BEGIN:VEVENT
DTSTART;VALUE=DATE:20211126
DTEND;VALUE=DATE:20211127
DTSTAMP:20260421T090120
CREATED:20211116T003021Z
LAST-MODIFIED:20211116T003021Z
UID:10000070-1637884800-1637971199@rotarynansana.com
SUMMARY:Jackie Ssendi's Birthday
DESCRIPTION:
URL:https://rotarynansana.com/event/jackie-ssendis-birthday/2021-11-26/
CATEGORIES:Birthdays
ATTACH;FMTTYPE=image/png:https://rotarynansana.com/wp-content/uploads/2021/11/birthday.png
END:VEVENT
BEGIN:VEVENT
DTSTART;TZID=Africa/Kampala:20211124T190000
DTEND;TZID=Africa/Kampala:20211124T200000
DTSTAMP:20260421T090120
CREATED:20211101T094829Z
LAST-MODIFIED:20211104T010552Z
UID:10000255-1637780400-1637784000@rotarynansana.com
SUMMARY:Weekly Fellowship
DESCRIPTION:
URL:https://rotarynansana.com/event/weekly-meeting/2021-11-24/
LOCATION:Ivory Hotel\, Nansana\, Kampala\, Uganda
ATTACH;FMTTYPE=image/png:https://rotarynansana.com/wp-content/uploads/2021/10/launch.png
ORGANIZER;CN="Rotary Club Nansana":MAILTO:info@rotarynansana.com
END:VEVENT
BEGIN:VEVENT
DTSTART;VALUE=DATE:20211124
DTEND;VALUE=DATE:20211125
DTSTAMP:20260421T090120
CREATED:20211116T003406Z
LAST-MODIFIED:20211116T003406Z
UID:10000425-1637712000-1637798399@rotarynansana.com
SUMMARY:Ezati Nicholas's Birthday
DESCRIPTION:
URL:https://rotarynansana.com/event/ezati-nicholass-birthday/2021-11-24/
CATEGORIES:Birthdays
ATTACH;FMTTYPE=image/png:https://rotarynansana.com/wp-content/uploads/2021/11/Ezati-Nicholas.png
END:VEVENT
BEGIN:VEVENT
DTSTART;VALUE=DATE:20211121
DTEND;VALUE=DATE:20211122
DTSTAMP:20260421T090120
CREATED:20211115T233132Z
LAST-MODIFIED:20211115T233132Z
UID:10000300-1637452800-1637539199@rotarynansana.com
SUMMARY:Josephine Katende Kalule’s Anniversary
DESCRIPTION:
URL:https://rotarynansana.com/event/josephine-katende-kalules-anniversary/2021-11-21/
CATEGORIES:Anniversaries
ATTACH;FMTTYPE=image/png:https://rotarynansana.com/wp-content/uploads/2021/11/anniversary.png
END:VEVENT
BEGIN:VEVENT
DTSTART;VALUE=DATE:20211118
DTEND;VALUE=DATE:20211119
DTSTAMP:20260421T090120
CREATED:20211116T001153Z
LAST-MODIFIED:20211116T001153Z
UID:10000380-1637193600-1637279999@rotarynansana.com
SUMMARY:Christine Nalubwama Gwanja’s Anniversary
DESCRIPTION:
URL:https://rotarynansana.com/event/christine-nalubwama-gwanjas-anniversary/2021-11-18/
CATEGORIES:Anniversaries
ATTACH;FMTTYPE=image/png:https://rotarynansana.com/wp-content/uploads/2021/11/Christine-Nalubwama-Gwanja.png
END:VEVENT
BEGIN:VEVENT
DTSTART;VALUE=DATE:20211118
DTEND;VALUE=DATE:20211119
DTSTAMP:20260421T090120
CREATED:20211115T235454Z
LAST-MODIFIED:20211115T235454Z
UID:10000355-1637193600-1637279999@rotarynansana.com
SUMMARY:Nandya Esther Mwanje's Birthday
DESCRIPTION:
URL:https://rotarynansana.com/event/nandya-esther-mwanjes-birthday/2021-11-18/
CATEGORIES:Birthdays
ATTACH;FMTTYPE=image/png:https://rotarynansana.com/wp-content/uploads/2021/11/Nandya-Esther-Mwanje.png
END:VEVENT
BEGIN:VEVENT
DTSTART;TZID=Africa/Kampala:20211117T190000
DTEND;TZID=Africa/Kampala:20211117T200000
DTSTAMP:20260421T090120
CREATED:20211101T094829Z
LAST-MODIFIED:20211104T010552Z
UID:10000254-1637175600-1637179200@rotarynansana.com
SUMMARY:Weekly Fellowship
DESCRIPTION:
URL:https://rotarynansana.com/event/weekly-meeting/2021-11-17/
LOCATION:Ivory Hotel\, Nansana\, Kampala\, Uganda
ATTACH;FMTTYPE=image/png:https://rotarynansana.com/wp-content/uploads/2021/10/launch.png
ORGANIZER;CN="Rotary Club Nansana":MAILTO:info@rotarynansana.com
END:VEVENT
BEGIN:VEVENT
DTSTART;TZID=Africa/Kampala:20211110T190000
DTEND;TZID=Africa/Kampala:20211110T200000
DTSTAMP:20260421T090120
CREATED:20211101T094829Z
LAST-MODIFIED:20211104T010552Z
UID:10000253-1636570800-1636574400@rotarynansana.com
SUMMARY:Weekly Fellowship
DESCRIPTION:
URL:https://rotarynansana.com/event/weekly-meeting/2021-11-10/
LOCATION:Ivory Hotel\, Nansana\, Kampala\, Uganda
ATTACH;FMTTYPE=image/png:https://rotarynansana.com/wp-content/uploads/2021/10/launch.png
ORGANIZER;CN="Rotary Club Nansana":MAILTO:info@rotarynansana.com
END:VEVENT
BEGIN:VEVENT
DTSTART;TZID=Africa/Kampala:20211108T100000
DTEND;TZID=Africa/Kampala:20211108T100000
DTSTAMP:20260421T090120
CREATED:20211029T074911Z
LAST-MODIFIED:20211101T094912Z
UID:10000158-1636365600-1636365600@rotarynansana.com
SUMMARY:Website Launch for Rotary Club Nansana
DESCRIPTION:
URL:https://rotarynansana.com/event/website-launch-for-rotary-club-nansana/
LOCATION:Ivory Hotel\, Nansana\, Kampala\, Uganda
ATTACH;FMTTYPE=image/png:https://rotarynansana.com/wp-content/uploads/2021/10/launch.png
ORGANIZER;CN="Rotary Club Nansana":MAILTO:info@rotarynansana.com
END:VEVENT
BEGIN:VEVENT
DTSTART;TZID=Africa/Kampala:20211103T190000
DTEND;TZID=Africa/Kampala:20211103T200000
DTSTAMP:20260421T090120
CREATED:20211101T094829Z
LAST-MODIFIED:20211104T010552Z
UID:10000252-1635966000-1635969600@rotarynansana.com
SUMMARY:Weekly Fellowship
DESCRIPTION:
URL:https://rotarynansana.com/event/weekly-meeting/2021-11-03/
LOCATION:Ivory Hotel\, Nansana\, Kampala\, Uganda
ATTACH;FMTTYPE=image/png:https://rotarynansana.com/wp-content/uploads/2021/10/launch.png
ORGANIZER;CN="Rotary Club Nansana":MAILTO:info@rotarynansana.com
END:VEVENT
BEGIN:VEVENT
DTSTART;VALUE=DATE:20211103
DTEND;VALUE=DATE:20211104
DTSTAMP:20260421T090120
CREATED:20211115T235325Z
LAST-MODIFIED:20211115T235325Z
UID:10000345-1635897600-1635983999@rotarynansana.com
SUMMARY:Bakyusa Alfred's Birthday
DESCRIPTION:
URL:https://rotarynansana.com/event/bakyusa-alfreds-birthday/2021-11-03/
CATEGORIES:Birthdays
ATTACH;FMTTYPE=image/png:https://rotarynansana.com/wp-content/uploads/2021/11/Bakyusa-Alfred.png
END:VEVENT
BEGIN:VEVENT
DTSTART;VALUE=DATE:20211029
DTEND;VALUE=DATE:20211030
DTSTAMP:20260421T090120
CREATED:20211116T004220Z
LAST-MODIFIED:20211116T004220Z
UID:10000450-1635465600-1635551999@rotarynansana.com
SUMMARY:Derrick Mugwanya's Birthday
DESCRIPTION:
URL:https://rotarynansana.com/event/derrick-mugwanyas-birthday/2021-10-29/
CATEGORIES:Birthdays
ATTACH;FMTTYPE=image/png:https://rotarynansana.com/wp-content/uploads/2021/11/Derrick-Mugwanya.png
END:VEVENT
BEGIN:VEVENT
DTSTART;VALUE=DATE:20211026
DTEND;VALUE=DATE:20211027
DTSTAMP:20260421T090120
CREATED:20211116T003714Z
LAST-MODIFIED:20211116T003714Z
UID:10000440-1635206400-1635292799@rotarynansana.com
SUMMARY:Aganyira Christopher’s Anniversary
DESCRIPTION:
URL:https://rotarynansana.com/event/aganyira-christophers-anniversary/2021-10-26/
CATEGORIES:Anniversaries
ATTACH;FMTTYPE=image/png:https://rotarynansana.com/wp-content/uploads/2021/11/Aganyira-Christopher.png
END:VEVENT
BEGIN:VEVENT
DTSTART;VALUE=DATE:20211024
DTEND;VALUE=DATE:20211025
DTSTAMP:20260421T090120
CREATED:20211116T003625Z
LAST-MODIFIED:20211116T003625Z
UID:10000435-1635033600-1635119999@rotarynansana.com
SUMMARY:Aganyira Christopher's Birthday
DESCRIPTION:
URL:https://rotarynansana.com/event/aganyira-christophers-birthday/2021-10-24/
CATEGORIES:Birthdays
ATTACH;FMTTYPE=image/png:https://rotarynansana.com/wp-content/uploads/2021/11/Aganyira-Christopher.png
END:VEVENT
BEGIN:VEVENT
DTSTART;VALUE=DATE:20211010
DTEND;VALUE=DATE:20211011
DTSTAMP:20260421T090120
CREATED:20211115T233457Z
LAST-MODIFIED:20211115T233457Z
UID:10000310-1633824000-1633910399@rotarynansana.com
SUMMARY:Nabende Stephen's Birthday
DESCRIPTION:
URL:https://rotarynansana.com/event/nabende-stephens-birthday/2021-10-10/
CATEGORIES:Birthdays
ATTACH;FMTTYPE=image/png:https://rotarynansana.com/wp-content/uploads/2021/11/Nabende-Stephen.png
END:VEVENT
BEGIN:VEVENT
DTSTART;VALUE=DATE:20211007
DTEND;VALUE=DATE:20211008
DTSTAMP:20260421T090120
CREATED:20211115T231727Z
LAST-MODIFIED:20211115T231727Z
UID:10000232-1633564800-1633651199@rotarynansana.com
SUMMARY:Henry Duku’s Anniversary
DESCRIPTION:
URL:https://rotarynansana.com/event/henry-dukus-anniversary/2021-10-07/
CATEGORIES:Anniversaries
ATTACH;FMTTYPE=image/png:https://rotarynansana.com/wp-content/uploads/2021/11/Duku-Henry.png
END:VEVENT
BEGIN:VEVENT
DTSTART;VALUE=DATE:20211007
DTEND;VALUE=DATE:20211008
DTSTAMP:20260421T090120
CREATED:20211115T231438Z
LAST-MODIFIED:20211115T231438Z
UID:10000222-1633564800-1633651199@rotarynansana.com
SUMMARY:Rebecca Mukasa Mutaawe’s Anniversary
DESCRIPTION:
URL:https://rotarynansana.com/event/rebecca-mukasa-mutaawes-anniversary/2021-10-07/
CATEGORIES:Anniversaries
ATTACH;FMTTYPE=image/png:https://rotarynansana.com/wp-content/uploads/2021/11/Rebecca-Mukasa-Mutaawe.png
END:VEVENT
BEGIN:VEVENT
DTSTART;VALUE=DATE:20211003
DTEND;VALUE=DATE:20211004
DTSTAMP:20260421T090120
CREATED:20211115T232100Z
LAST-MODIFIED:20211115T232100Z
UID:10000237-1633219200-1633305599@rotarynansana.com
SUMMARY:Namirembe  Rebecca's Birthday
DESCRIPTION:
URL:https://rotarynansana.com/event/namirembe-rebeccas-birthday/2021-10-03/
CATEGORIES:Birthdays
ATTACH;FMTTYPE=image/png:https://rotarynansana.com/wp-content/uploads/2021/11/birthday.png
END:VEVENT
END:VCALENDAR