BEGIN:VCALENDAR
VERSION:2.0
PRODID:-//Rotary Club of Nansana - ECPv6.3.5//NONSGML v1.0//EN
CALSCALE:GREGORIAN
METHOD:PUBLISH
X-ORIGINAL-URL:https://rotarynansana.com
X-WR-CALDESC:Events for Rotary Club of Nansana
REFRESH-INTERVAL;VALUE=DURATION:PT1H
X-Robots-Tag:noindex
X-PUBLISHED-TTL:PT1H
BEGIN:VTIMEZONE
TZID:Africa/Kampala
BEGIN:STANDARD
TZOFFSETFROM:+0300
TZOFFSETTO:+0300
TZNAME:EAT
DTSTART:20210101T000000
END:STANDARD
END:VTIMEZONE
BEGIN:VEVENT
DTSTART;VALUE=DATE:20210505
DTEND;VALUE=DATE:20210506
DTSTAMP:20260422T172625
CREATED:20211115T231344Z
LAST-MODIFIED:20211115T231344Z
UID:10000125-1620172800-1620259199@rotarynansana.com
SUMMARY:Rebecca Mukasa Mutaawe's Birthday
DESCRIPTION:
URL:https://rotarynansana.com/event/rebecca-mukasa-mutaawes-birthday/2021-05-05/
CATEGORIES:Birthdays
ATTACH;FMTTYPE=image/png:https://rotarynansana.com/wp-content/uploads/2021/11/Rebecca-Mukasa-Mutaawe.png
END:VEVENT
BEGIN:VEVENT
DTSTART;VALUE=DATE:20210515
DTEND;VALUE=DATE:20210516
DTSTAMP:20260422T172625
CREATED:20211115T234051Z
LAST-MODIFIED:20211115T234051Z
UID:10000315-1621036800-1621123199@rotarynansana.com
SUMMARY:Nabisubi Cissy’s Anniversary
DESCRIPTION:
URL:https://rotarynansana.com/event/nabisubi-cissys-anniversary/2021-05-15/
CATEGORIES:Anniversaries
ATTACH;FMTTYPE=image/png:https://rotarynansana.com/wp-content/uploads/2021/11/Nabisubi-Cissy.png
END:VEVENT
BEGIN:VEVENT
DTSTART;VALUE=DATE:20210520
DTEND;VALUE=DATE:20210521
DTSTAMP:20260422T172625
CREATED:20211115T234625Z
LAST-MODIFIED:20211115T234625Z
UID:10000139-1621468800-1621555199@rotarynansana.com
SUMMARY:Ssekandi Micheal's Birthday
DESCRIPTION:
URL:https://rotarynansana.com/event/ssekandi-micheals-birthday/2021-05-20/
CATEGORIES:Birthdays
ATTACH;FMTTYPE=image/png:https://rotarynansana.com/wp-content/uploads/2021/11/birthday.png
END:VEVENT
BEGIN:VEVENT
DTSTART;VALUE=DATE:20210528
DTEND;VALUE=DATE:20210529
DTSTAMP:20260422T172625
CREATED:20211116T001242Z
LAST-MODIFIED:20211116T004831Z
UID:10000385-1622160000-1622246399@rotarynansana.com
SUMMARY:Abubaker Kawenja's Birthday
DESCRIPTION:
URL:https://rotarynansana.com/event/abubaker-kawenjas-birthday/2021-05-28/
CATEGORIES:Birthdays
ATTACH;FMTTYPE=image/png:https://rotarynansana.com/wp-content/uploads/2021/11/birthday.png
END:VEVENT
END:VCALENDAR