BEGIN:VCALENDAR
VERSION:2.0
PRODID:-//Rotary Club of Nansana - ECPv6.3.5//NONSGML v1.0//EN
CALSCALE:GREGORIAN
METHOD:PUBLISH
X-WR-CALNAME:Rotary Club of Nansana
X-ORIGINAL-URL:https://rotarynansana.com
X-WR-CALDESC:Events for Rotary Club of Nansana
REFRESH-INTERVAL;VALUE=DURATION:PT1H
X-Robots-Tag:noindex
X-PUBLISHED-TTL:PT1H
BEGIN:VTIMEZONE
TZID:Africa/Kampala
BEGIN:STANDARD
TZOFFSETFROM:+0300
TZOFFSETTO:+0300
TZNAME:EAT
DTSTART:20220101T000000
END:STANDARD
END:VTIMEZONE
BEGIN:VEVENT
DTSTART;TZID=Africa/Kampala:20220504T190000
DTEND;TZID=Africa/Kampala:20220504T200000
DTSTAMP:20260421T193056
CREATED:20211101T094829Z
LAST-MODIFIED:20211104T010552Z
UID:10000278-1651690800-1651694400@rotarynansana.com
SUMMARY:Weekly Fellowship
DESCRIPTION:
URL:https://rotarynansana.com/event/weekly-meeting/2022-05-04/
LOCATION:Ivory Hotel\, Nansana\, Kampala\, Uganda
ATTACH;FMTTYPE=image/png:https://rotarynansana.com/wp-content/uploads/2021/10/launch.png
ORGANIZER;CN="Rotary Club Nansana":MAILTO:info@rotarynansana.com
END:VEVENT
BEGIN:VEVENT
DTSTART;VALUE=DATE:20220505
DTEND;VALUE=DATE:20220506
DTSTAMP:20260421T193057
CREATED:20211115T231344Z
LAST-MODIFIED:20211115T231344Z
UID:10000126-1651708800-1651795199@rotarynansana.com
SUMMARY:Rebecca Mukasa Mutaawe's Birthday
DESCRIPTION:
URL:https://rotarynansana.com/event/rebecca-mukasa-mutaawes-birthday/2022-05-05/
CATEGORIES:Birthdays
ATTACH;FMTTYPE=image/png:https://rotarynansana.com/wp-content/uploads/2021/11/Rebecca-Mukasa-Mutaawe.png
END:VEVENT
BEGIN:VEVENT
DTSTART;TZID=Africa/Kampala:20220511T190000
DTEND;TZID=Africa/Kampala:20220511T200000
DTSTAMP:20260421T193057
CREATED:20211101T094829Z
LAST-MODIFIED:20211104T010552Z
UID:10000279-1652295600-1652299200@rotarynansana.com
SUMMARY:Weekly Fellowship
DESCRIPTION:
URL:https://rotarynansana.com/event/weekly-meeting/2022-05-11/
LOCATION:Ivory Hotel\, Nansana\, Kampala\, Uganda
ATTACH;FMTTYPE=image/png:https://rotarynansana.com/wp-content/uploads/2021/10/launch.png
ORGANIZER;CN="Rotary Club Nansana":MAILTO:info@rotarynansana.com
END:VEVENT
BEGIN:VEVENT
DTSTART;VALUE=DATE:20220515
DTEND;VALUE=DATE:20220516
DTSTAMP:20260421T193057
CREATED:20211115T234051Z
LAST-MODIFIED:20211115T234051Z
UID:10000316-1652572800-1652659199@rotarynansana.com
SUMMARY:Nabisubi Cissy’s Anniversary
DESCRIPTION:
URL:https://rotarynansana.com/event/nabisubi-cissys-anniversary/2022-05-15/
CATEGORIES:Anniversaries
ATTACH;FMTTYPE=image/png:https://rotarynansana.com/wp-content/uploads/2021/11/Nabisubi-Cissy.png
END:VEVENT
BEGIN:VEVENT
DTSTART;TZID=Africa/Kampala:20220518T190000
DTEND;TZID=Africa/Kampala:20220518T200000
DTSTAMP:20260421T193057
CREATED:20211101T094829Z
LAST-MODIFIED:20211104T010552Z
UID:10000280-1652900400-1652904000@rotarynansana.com
SUMMARY:Weekly Fellowship
DESCRIPTION:
URL:https://rotarynansana.com/event/weekly-meeting/2022-05-18/
LOCATION:Ivory Hotel\, Nansana\, Kampala\, Uganda
ATTACH;FMTTYPE=image/png:https://rotarynansana.com/wp-content/uploads/2021/10/launch.png
ORGANIZER;CN="Rotary Club Nansana":MAILTO:info@rotarynansana.com
END:VEVENT
BEGIN:VEVENT
DTSTART;VALUE=DATE:20220520
DTEND;VALUE=DATE:20220521
DTSTAMP:20260421T193057
CREATED:20211115T234625Z
LAST-MODIFIED:20211115T234625Z
UID:10000140-1653004800-1653091199@rotarynansana.com
SUMMARY:Ssekandi Micheal's Birthday
DESCRIPTION:
URL:https://rotarynansana.com/event/ssekandi-micheals-birthday/2022-05-20/
CATEGORIES:Birthdays
ATTACH;FMTTYPE=image/png:https://rotarynansana.com/wp-content/uploads/2021/11/birthday.png
END:VEVENT
BEGIN:VEVENT
DTSTART;VALUE=DATE:20220521
DTEND;VALUE=DATE:20220522
DTSTAMP:20260421T193057
CREATED:20220107T230551Z
LAST-MODIFIED:20220107T230551Z
UID:10000096-1653091200-1653177599@rotarynansana.com
SUMMARY:RC Nansana Presidential Installation
DESCRIPTION:
URL:https://rotarynansana.com/event/rc-nansana-presidential-installation/
CATEGORIES:Club Events
ATTACH;FMTTYPE=image/png:https://rotarynansana.com/wp-content/uploads/2021/10/launch.png
END:VEVENT
BEGIN:VEVENT
DTSTART;TZID=Africa/Kampala:20220525T190000
DTEND;TZID=Africa/Kampala:20220525T200000
DTSTAMP:20260421T193057
CREATED:20211101T094829Z
LAST-MODIFIED:20211104T010552Z
UID:10000281-1653505200-1653508800@rotarynansana.com
SUMMARY:Weekly Fellowship
DESCRIPTION:
URL:https://rotarynansana.com/event/weekly-meeting/2022-05-25/
LOCATION:Ivory Hotel\, Nansana\, Kampala\, Uganda
ATTACH;FMTTYPE=image/png:https://rotarynansana.com/wp-content/uploads/2021/10/launch.png
ORGANIZER;CN="Rotary Club Nansana":MAILTO:info@rotarynansana.com
END:VEVENT
BEGIN:VEVENT
DTSTART;VALUE=DATE:20220528
DTEND;VALUE=DATE:20220529
DTSTAMP:20260421T193057
CREATED:20211116T001242Z
LAST-MODIFIED:20211116T004831Z
UID:10000386-1653696000-1653782399@rotarynansana.com
SUMMARY:Abubaker Kawenja's Birthday
DESCRIPTION:
URL:https://rotarynansana.com/event/abubaker-kawenjas-birthday/2022-05-28/
CATEGORIES:Birthdays
ATTACH;FMTTYPE=image/png:https://rotarynansana.com/wp-content/uploads/2021/11/birthday.png
END:VEVENT
END:VCALENDAR