BEGIN:VCALENDAR
VERSION:2.0
PRODID:-//Rotary Club of Nansana - ECPv6.3.5//NONSGML v1.0//EN
CALSCALE:GREGORIAN
METHOD:PUBLISH
X-WR-CALNAME:Rotary Club of Nansana
X-ORIGINAL-URL:https://rotarynansana.com
X-WR-CALDESC:Events for Rotary Club of Nansana
REFRESH-INTERVAL;VALUE=DURATION:PT1H
X-Robots-Tag:noindex
X-PUBLISHED-TTL:PT1H
BEGIN:VTIMEZONE
TZID:Africa/Kampala
BEGIN:STANDARD
TZOFFSETFROM:+0300
TZOFFSETTO:+0300
TZNAME:EAT
DTSTART:20220101T000000
END:STANDARD
END:VTIMEZONE
BEGIN:VEVENT
DTSTART;VALUE=DATE:20221206
DTEND;VALUE=DATE:20221207
DTSTAMP:20260421T105222
CREATED:20211115T230715Z
LAST-MODIFIED:20211115T230715Z
UID:10000160-1670284800-1670371199@rotarynansana.com
SUMMARY:Richard Were's Birthday
DESCRIPTION:
URL:https://rotarynansana.com/event/richard-weres-birthday/2022-12-06/
CATEGORIES:Birthdays
ATTACH;FMTTYPE=image/png:https://rotarynansana.com/wp-content/uploads/2021/11/Were-Richard.png
END:VEVENT
BEGIN:VEVENT
DTSTART;VALUE=DATE:20221207
DTEND;VALUE=DATE:20221208
DTSTAMP:20260421T105222
CREATED:20211116T000701Z
LAST-MODIFIED:20211116T000701Z
UID:10000042-1670371200-1670457599@rotarynansana.com
SUMMARY:Nsubuga Dathan Douglas's Birthday
DESCRIPTION:
URL:https://rotarynansana.com/event/nsubuga-dathan-douglass-birthday/2022-12-07/
CATEGORIES:Birthdays
ATTACH;FMTTYPE=image/png:https://rotarynansana.com/wp-content/uploads/2021/11/Nsubuga-Dathan-Douglas.png
END:VEVENT
BEGIN:VEVENT
DTSTART;VALUE=DATE:20221209
DTEND;VALUE=DATE:20221210
DTSTAMP:20260421T105222
CREATED:20211115T232155Z
LAST-MODIFIED:20211115T232155Z
UID:10000243-1670544000-1670630399@rotarynansana.com
SUMMARY:Namirembe  Rebecca’s Anniversary
DESCRIPTION:
URL:https://rotarynansana.com/event/namirembe-rebeccas-anniversary/2022-12-09/
CATEGORIES:Anniversaries
ATTACH;FMTTYPE=image/png:https://rotarynansana.com/wp-content/uploads/2021/11/anniversary.png
END:VEVENT
BEGIN:VEVENT
DTSTART;VALUE=DATE:20221212
DTEND;VALUE=DATE:20221213
DTSTAMP:20260421T105222
CREATED:20211116T001026Z
LAST-MODIFIED:20211116T001026Z
UID:10000371-1670803200-1670889599@rotarynansana.com
SUMMARY:Mutebe George’s Anniversary
DESCRIPTION:
URL:https://rotarynansana.com/event/mutebe-georges-anniversary/2022-12-12/
CATEGORIES:Anniversaries
ATTACH;FMTTYPE=image/png:https://rotarynansana.com/wp-content/uploads/2021/11/anniversary.png
END:VEVENT
BEGIN:VEVENT
DTSTART;VALUE=DATE:20221213
DTEND;VALUE=DATE:20221214
DTSTAMP:20260421T105222
CREATED:20211115T232541Z
LAST-MODIFIED:20211115T232541Z
UID:10000145-1670889600-1670975999@rotarynansana.com
SUMMARY:Ruyooka Anthony’s Anniversary
DESCRIPTION:
URL:https://rotarynansana.com/event/ruyooka-anthonys-anniversary/2022-12-13/
CATEGORIES:Anniversaries
ATTACH;FMTTYPE=image/png:https://rotarynansana.com/wp-content/uploads/2021/11/Ruyooka-Anthony.png
END:VEVENT
BEGIN:VEVENT
DTSTART;VALUE=DATE:20221217
DTEND;VALUE=DATE:20221218
DTSTAMP:20260421T105222
CREATED:20211116T002706Z
LAST-MODIFIED:20211116T002706Z
UID:10000052-1671235200-1671321599@rotarynansana.com
SUMMARY:John Robert Okware’s Anniversary
DESCRIPTION:
URL:https://rotarynansana.com/event/john-robert-okwares-anniversary/2022-12-17/
CATEGORIES:Anniversaries
ATTACH;FMTTYPE=image/png:https://rotarynansana.com/wp-content/uploads/2021/11/anniversary.png
END:VEVENT
BEGIN:VEVENT
DTSTART;VALUE=DATE:20221223
DTEND;VALUE=DATE:20221224
DTSTAMP:20260421T105222
CREATED:20211115T231613Z
LAST-MODIFIED:20211115T231613Z
UID:10000228-1671753600-1671839999@rotarynansana.com
SUMMARY:Henry Duku's Birthday
DESCRIPTION:
URL:https://rotarynansana.com/event/henry-dukus-birthday/2022-12-23/
CATEGORIES:Birthdays
ATTACH;FMTTYPE=image/png:https://rotarynansana.com/wp-content/uploads/2021/11/Duku-Henry.png
END:VEVENT
BEGIN:VEVENT
DTSTART;VALUE=DATE:20221227
DTEND;VALUE=DATE:20221228
DTSTAMP:20260421T105222
CREATED:20211115T235704Z
LAST-MODIFIED:20211115T235704Z
UID:10000361-1672099200-1672185599@rotarynansana.com
SUMMARY:Patrick Barugahare's Birthday
DESCRIPTION:
URL:https://rotarynansana.com/event/patrick-barugahares-birthday/2022-12-27/
CATEGORIES:Birthdays
ATTACH;FMTTYPE=image/png:https://rotarynansana.com/wp-content/uploads/2021/11/birthday.png
END:VEVENT
BEGIN:VEVENT
DTSTART;VALUE=DATE:20221230
DTEND;VALUE=DATE:20221231
DTSTAMP:20260421T105222
CREATED:20211115T232858Z
LAST-MODIFIED:20211115T232858Z
UID:10000121-1672358400-1672444799@rotarynansana.com
SUMMARY:Okello Obura Constant's Birthday
DESCRIPTION:
URL:https://rotarynansana.com/event/okello-obura-constants-birthday/2022-12-30/
CATEGORIES:Birthdays
ATTACH;FMTTYPE=image/png:https://rotarynansana.com/wp-content/uploads/2021/11/birthday.png
END:VEVENT
BEGIN:VEVENT
DTSTART;VALUE=DATE:20221230
DTEND;VALUE=DATE:20221231
DTSTAMP:20260421T105222
CREATED:20211116T001115Z
LAST-MODIFIED:20211116T001115Z
UID:10000376-1672358400-1672444799@rotarynansana.com
SUMMARY:Christine Nalubwama Gwanja's Birthday
DESCRIPTION:
URL:https://rotarynansana.com/event/christine-nalubwama-gwanjas-birthday/2022-12-30/
CATEGORIES:Birthdays
ATTACH;FMTTYPE=image/png:https://rotarynansana.com/wp-content/uploads/2021/11/Christine-Nalubwama-Gwanja.png
END:VEVENT
END:VCALENDAR